BEGIN:VCALENDAR
VERSION:2.0
PRODID:-//Big Point - ECPv5.16.1//NONSGML v1.0//EN
CALSCALE:GREGORIAN
METHOD:PUBLISH
X-WR-CALNAME:Big Point
X-ORIGINAL-URL:https://www.bigpoint.jugendinemden.de
X-WR-CALDESC:Veranstaltungen für Big Point
BEGIN:VTIMEZONE
TZID:Europe/Berlin
BEGIN:DAYLIGHT
TZOFFSETFROM:+0100
TZOFFSETTO:+0200
TZNAME:CEST
DTSTART:20160327T010000
END:DAYLIGHT
BEGIN:STANDARD
TZOFFSETFROM:+0200
TZOFFSETTO:+0100
TZNAME:CET
DTSTART:20161030T010000
END:STANDARD
END:VTIMEZONE
BEGIN:VEVENT
DTSTART;TZID=Europe/Berlin:20161216T140000
DTEND;TZID=Europe/Berlin:20161216T190000
DTSTAMP:20260426T003656
CREATED:20161202T135919Z
LAST-MODIFIED:20161202T140437Z
UID:117-1481896800-1481914800@www.bigpoint.jugendinemden.de
SUMMARY:Weihnachtsfeier
DESCRIPTION:Am 16.12. findet die Big Point Weihnachtsfeier statt. Am letzten Tag vor unserer Weihnachtspause gibt es wieder jede Menge Leckereien\, tolle Spiele\, weihnachtliche Musik und Kinderpunsch in der Freizeit-Sport-Anlage.
URL:https://www.bigpoint.jugendinemden.de/event/weihnachtsfeier/
LOCATION:Freizeit-Sport-Anlage Big Point\, Gorch-Fock-Str. 63\, 26721 Emden
END:VEVENT
END:VCALENDAR