BEGIN:VCALENDAR
VERSION:2.0
PRODID:-//Big Point - ECPv5.16.1//NONSGML v1.0//EN
CALSCALE:GREGORIAN
METHOD:PUBLISH
X-WR-CALNAME:Big Point
X-ORIGINAL-URL:https://www.bigpoint.jugendinemden.de
X-WR-CALDESC:Veranstaltungen für Big Point
BEGIN:VTIMEZONE
TZID:Europe/Berlin
BEGIN:DAYLIGHT
TZOFFSETFROM:+0100
TZOFFSETTO:+0200
TZNAME:CEST
DTSTART:20170326T010000
END:DAYLIGHT
BEGIN:STANDARD
TZOFFSETFROM:+0200
TZOFFSETTO:+0100
TZNAME:CET
DTSTART:20171029T010000
END:STANDARD
END:VTIMEZONE
BEGIN:VEVENT
DTSTART;TZID=Europe/Berlin:20170420T143000
DTEND;TZID=Europe/Berlin:20170420T180000
DTSTAMP:20260425T140211
CREATED:20170329T123720Z
LAST-MODIFIED:20170329T123720Z
UID:211-1492698600-1492711200@www.bigpoint.jugendinemden.de
SUMMARY:Tischtennis Osterturnier 2017
DESCRIPTION:
URL:https://www.bigpoint.jugendinemden.de/event/tischtennis-osterturnier-2017/
LOCATION:Turnhalle Barenburgschule\, Hermann-Allmers-Str. 111\, 26721 Emden
END:VEVENT
END:VCALENDAR