BEGIN:VCALENDAR
VERSION:2.0
PRODID:-//Big Point - ECPv5.16.1//NONSGML v1.0//EN
CALSCALE:GREGORIAN
METHOD:PUBLISH
X-WR-CALNAME:Big Point
X-ORIGINAL-URL:https://www.bigpoint.jugendinemden.de
X-WR-CALDESC:Veranstaltungen für Big Point
BEGIN:VTIMEZONE
TZID:Europe/Berlin
BEGIN:DAYLIGHT
TZOFFSETFROM:+0100
TZOFFSETTO:+0200
TZNAME:CEST
DTSTART:20160327T010000
END:DAYLIGHT
BEGIN:STANDARD
TZOFFSETFROM:+0200
TZOFFSETTO:+0100
TZNAME:CET
DTSTART:20161030T010000
END:STANDARD
END:VTIMEZONE
BEGIN:VEVENT
DTSTART;TZID=Europe/Berlin:20161013T110000
DTEND;TZID=Europe/Berlin:20161013T150000
DTSTAMP:20260426T022927
CREATED:20160825T150338Z
LAST-MODIFIED:20160825T150338Z
UID:73-1476356400-1476370800@www.bigpoint.jugendinemden.de
SUMMARY:Sparkassen Cup 2016
DESCRIPTION:
URL:https://www.bigpoint.jugendinemden.de/event/sparkassen-cup-2016/
LOCATION:Turnhalle BBS II
END:VEVENT
END:VCALENDAR