BEGIN:VCALENDAR
VERSION:2.0
PRODID:-//Big Point - ECPv5.16.1//NONSGML v1.0//EN
CALSCALE:GREGORIAN
METHOD:PUBLISH
X-WR-CALNAME:Big Point
X-ORIGINAL-URL:https://www.bigpoint.jugendinemden.de
X-WR-CALDESC:Veranstaltungen für Big Point
BEGIN:VTIMEZONE
TZID:Europe/Berlin
BEGIN:DAYLIGHT
TZOFFSETFROM:+0100
TZOFFSETTO:+0200
TZNAME:CEST
DTSTART:20170326T010000
END:DAYLIGHT
BEGIN:STANDARD
TZOFFSETFROM:+0200
TZOFFSETTO:+0100
TZNAME:CET
DTSTART:20171029T010000
END:STANDARD
END:VTIMEZONE
BEGIN:VEVENT
DTSTART;TZID=Europe/Berlin:20170419T143000
DTEND;TZID=Europe/Berlin:20170419T170000
DTSTAMP:20260425T153647
CREATED:20170222T142008Z
LAST-MODIFIED:20170222T150752Z
UID:186-1492612200-1492621200@www.bigpoint.jugendinemden.de
SUMMARY:Osterferien Soccer Court Turnier für Jugendliche
DESCRIPTION:Das Fußballturnier für Jugendliche von 10 bis 14 Jahren im Rahmen des Osterferienprogrammes findet am 19. April (Mittwoch) statt. Bei schönem Wetter wird auf dem Big Point Soccer-Court gespielt\, bei schlechten Witterungsverhältnissen in der Turnhalle Grüner Weg.
URL:https://www.bigpoint.jugendinemden.de/event/osterferien-soccer-court-turnier-jugendliche/
LOCATION:Soccer Court Big Point\, Gorch-Fock-Str. 63\, 26721 Emden
END:VEVENT
END:VCALENDAR