BEGIN:VCALENDAR
VERSION:2.0
PRODID:-//Big Point - ECPv5.16.1//NONSGML v1.0//EN
CALSCALE:GREGORIAN
METHOD:PUBLISH
X-WR-CALNAME:Big Point
X-ORIGINAL-URL:https://www.bigpoint.jugendinemden.de
X-WR-CALDESC:Veranstaltungen für Big Point
BEGIN:VTIMEZONE
TZID:Europe/Berlin
BEGIN:DAYLIGHT
TZOFFSETFROM:+0100
TZOFFSETTO:+0200
TZNAME:CEST
DTSTART:20190331T010000
END:DAYLIGHT
BEGIN:STANDARD
TZOFFSETFROM:+0200
TZOFFSETTO:+0100
TZNAME:CET
DTSTART:20191027T010000
END:STANDARD
END:VTIMEZONE
BEGIN:VEVENT
DTSTART;TZID=Europe/Berlin:20190409T143000
DTEND;TZID=Europe/Berlin:20190409T170000
DTSTAMP:20260424T160725
CREATED:20190320T171351Z
LAST-MODIFIED:20190320T171351Z
UID:420-1554820200-1554829200@www.bigpoint.jugendinemden.de
SUMMARY:Osterferien-Fußballturnier 2019
DESCRIPTION:Fußballturnier in den Osterferien für 8-14-Jährige auf dem Big Point Soccer-Court! Mannschaftsstärke 4+1. Es können ganze Mannschaften oder auch Einzelspieler*innen zum Turnier kommen\, ggf. werden die Mannschaften vor Ort noch zusammengestellt. \nBei schlechtem Wetter findet das Turnier in der Turnhalle der Grundschule Grüner Weg statt!
URL:https://www.bigpoint.jugendinemden.de/event/osterferien-fussballturnier-2019/
LOCATION:Soccer Court Big Point\, Gorch-Fock-Str. 63\, 26721 Emden
END:VEVENT
END:VCALENDAR