BEGIN:VCALENDAR
VERSION:2.0
PRODID:-//Big Point - ECPv5.16.1//NONSGML v1.0//EN
CALSCALE:GREGORIAN
METHOD:PUBLISH
X-WR-CALNAME:Big Point
X-ORIGINAL-URL:https://www.bigpoint.jugendinemden.de
X-WR-CALDESC:Veranstaltungen für Big Point
BEGIN:VTIMEZONE
TZID:Europe/Berlin
BEGIN:DAYLIGHT
TZOFFSETFROM:+0100
TZOFFSETTO:+0200
TZNAME:CEST
DTSTART:20170326T010000
END:DAYLIGHT
BEGIN:STANDARD
TZOFFSETFROM:+0200
TZOFFSETTO:+0100
TZNAME:CET
DTSTART:20171029T010000
END:STANDARD
END:VTIMEZONE
BEGIN:VEVENT
DTSTART;TZID=Europe/Berlin:20170130T110000
DTEND;TZID=Europe/Berlin:20170130T150000
DTSTAMP:20260425T224923
CREATED:20161202T140144Z
LAST-MODIFIED:20161202T140238Z
UID:119-1485774000-1485788400@www.bigpoint.jugendinemden.de
SUMMARY:IG-Metall Cup
DESCRIPTION:Der große IG-Metall Cup in den Zeugnisferien für 14 bis 18-Jährige.
URL:https://www.bigpoint.jugendinemden.de/event/ig-metall-cup/
LOCATION:Turnhalle BBS II
END:VEVENT
END:VCALENDAR