BEGIN:VCALENDAR
VERSION:2.0
PRODID:-//Big Point - ECPv5.16.1//NONSGML v1.0//EN
CALSCALE:GREGORIAN
METHOD:PUBLISH
X-WR-CALNAME:Big Point
X-ORIGINAL-URL:https://www.bigpoint.jugendinemden.de
X-WR-CALDESC:Veranstaltungen für Big Point
BEGIN:VTIMEZONE
TZID:Europe/Berlin
BEGIN:DAYLIGHT
TZOFFSETFROM:+0100
TZOFFSETTO:+0200
TZNAME:CEST
DTSTART:20180325T010000
END:DAYLIGHT
BEGIN:STANDARD
TZOFFSETFROM:+0200
TZOFFSETTO:+0100
TZNAME:CET
DTSTART:20181028T010000
END:STANDARD
END:VTIMEZONE
BEGIN:VEVENT
DTSTART;TZID=Europe/Berlin:20180201T110000
DTEND;TZID=Europe/Berlin:20180201T160000
DTSTAMP:20260424T180253
CREATED:20180109T175341Z
LAST-MODIFIED:20180109T175341Z
UID:352-1517482800-1517500800@www.bigpoint.jugendinemden.de
SUMMARY:IG-Metall-Cup 2018
DESCRIPTION:Während den Zeugnisferien am 01. Feburar 2018 findet der diesjährige IG-Metall-Cup in der Turnhalle BBS II statt. Das Fußballturnier findet in der Altersklasse von 14-18 Jahren statt. Teams 5+1. Veranstalter sind der Fachdienst Jugendförderung der Stadt Emden\, die IG-Metall Emden\, der Präventionsrat der Stadt Emden\, die Polizei Emden und die Jugendzentren der Stadt Emden. \nAnmeldungen sind ab sofort und bis Ende Januar in den Jugendzentren möglich!
URL:https://www.bigpoint.jugendinemden.de/event/ig-metall-cup-2018/
LOCATION:Turnhalle BBS II
END:VEVENT
END:VCALENDAR