BEGIN:VCALENDAR
VERSION:2.0
PRODID:-//Big Point - ECPv5.16.1//NONSGML v1.0//EN
CALSCALE:GREGORIAN
METHOD:PUBLISH
X-WR-CALNAME:Big Point
X-ORIGINAL-URL:https://www.bigpoint.jugendinemden.de
X-WR-CALDESC:Veranstaltungen für Big Point
BEGIN:VTIMEZONE
TZID:Europe/Berlin
BEGIN:DAYLIGHT
TZOFFSETFROM:+0100
TZOFFSETTO:+0200
TZNAME:CEST
DTSTART:20170326T010000
END:DAYLIGHT
BEGIN:STANDARD
TZOFFSETFROM:+0200
TZOFFSETTO:+0100
TZNAME:CET
DTSTART:20171029T010000
END:STANDARD
END:VTIMEZONE
BEGIN:VEVENT
DTSTART;TZID=Europe/Berlin:20171009T143000
DTEND;TZID=Europe/Berlin:20171009T170000
DTSTAMP:20260424T212821
CREATED:20170904T163940Z
LAST-MODIFIED:20170904T163940Z
UID:277-1507559400-1507568400@www.bigpoint.jugendinemden.de
SUMMARY:Fußballturnier für Jugendliche
DESCRIPTION:Herbstferienturnier auf unserem Soccer-Court für 11 – 14 Jährige! Ab 14.30 Uhr gehts los. Es können ganze Teams oder einzelne Spieler mitmachen\, ggf. werden die Mannschaften vor Ort noch zusammengestellt.
URL:https://www.bigpoint.jugendinemden.de/event/fussballturnier-fuer-jugendliche/
LOCATION:Soccer Court Big Point\, Gorch-Fock-Str. 63\, 26721 Emden
END:VEVENT
END:VCALENDAR