BEGIN:VCALENDAR
VERSION:2.0
PRODID:-//Big Point - ECPv5.16.1//NONSGML v1.0//EN
CALSCALE:GREGORIAN
METHOD:PUBLISH
X-WR-CALNAME:Big Point
X-ORIGINAL-URL:https://www.bigpoint.jugendinemden.de
X-WR-CALDESC:Veranstaltungen für Big Point
BEGIN:VTIMEZONE
TZID:Europe/Berlin
BEGIN:DAYLIGHT
TZOFFSETFROM:+0100
TZOFFSETTO:+0200
TZNAME:CEST
DTSTART:20170326T010000
END:DAYLIGHT
BEGIN:STANDARD
TZOFFSETFROM:+0200
TZOFFSETTO:+0100
TZNAME:CET
DTSTART:20171029T010000
END:STANDARD
END:VTIMEZONE
BEGIN:VEVENT
DTSTART;TZID=Europe/Berlin:20170626T143000
DTEND;TZID=Europe/Berlin:20170626T170000
DTSTAMP:20260425T122441
CREATED:20170222T142543Z
LAST-MODIFIED:20170222T150729Z
UID:190-1498487400-1498496400@www.bigpoint.jugendinemden.de
SUMMARY:Ferienpass Soccer Court Turnier für Kids
DESCRIPTION:Am 26. Juni 2017 (Montag) findet das Soccer Court Turnier für 6-11 Jährige im Rahmen des Ferienpasses statt. Keine Anmeldung notwendig\, Mannschaften werden vor Ort zusammengestellt.
URL:https://www.bigpoint.jugendinemden.de/event/ferienpass-soccer-court-turnier-kids/
LOCATION:Soccer Court Big Point\, Gorch-Fock-Str. 63\, 26721 Emden
END:VEVENT
END:VCALENDAR