BEGIN:VCALENDAR
VERSION:2.0
PRODID:-//Big Point - ECPv5.16.1//NONSGML v1.0//EN
CALSCALE:GREGORIAN
METHOD:PUBLISH
X-WR-CALNAME:Big Point
X-ORIGINAL-URL:https://www.bigpoint.jugendinemden.de
X-WR-CALDESC:Veranstaltungen für Big Point
BEGIN:VTIMEZONE
TZID:Europe/Berlin
BEGIN:DAYLIGHT
TZOFFSETFROM:+0100
TZOFFSETTO:+0200
TZNAME:CEST
DTSTART:20180325T010000
END:DAYLIGHT
BEGIN:STANDARD
TZOFFSETFROM:+0200
TZOFFSETTO:+0100
TZNAME:CET
DTSTART:20181028T010000
END:STANDARD
END:VTIMEZONE
BEGIN:VEVENT
DTSTART;TZID=Europe/Berlin:20180131T143000
DTEND;TZID=Europe/Berlin:20180227T150000
DTSTAMP:20260424T194253
CREATED:20180125T142203Z
LAST-MODIFIED:20180125T142203Z
UID:359-1517409000-1519743600@www.bigpoint.jugendinemden.de
SUMMARY:Big Point Olympiade
DESCRIPTION:  \nWeitere Infos
URL:https://www.bigpoint.jugendinemden.de/event/big-point-olympiade/
LOCATION:Freizeit-Sport-Anlage Big Point\, Gorch-Fock-Str. 63\, 26721 Emden
END:VEVENT
END:VCALENDAR